BEGIN:VCALENDAR
VERSION:2.0
PRODID:-//217.160.0.149//NONSGML kigkonsult.se iCalcreator 2.20//
CALSCALE:GREGORIAN
METHOD:PUBLISH
X-WR-TIMEZONE:Europe/Berlin
BEGIN:VEVENT
UID:event911@Heikendorfer TC v. 1965
DTSTAMP:20260423T084638Z
CATEGORIES:Veranstaltungen
DESCRIPTION:Deutschland spielt Tennis\nKategorie: Veranstaltungen\nICS-Link
 : https://heikendorfer-tc.de/index.php?option=com_jem&view=event&id=911:de
 utschland-spielt-tennis\n
DTSTART:20220430T100000
DTEND:20220430T130000
LOCATION:HTC Außenplätze/Clubhaus\,Solten Wisch\,24226 Heikendorf
SUMMARY:Deutschland spielt Tennis
URL:https://heikendorfer-tc.de/index.php?option=com_jem&view=event&id=911:d
 eutschland-spielt-tennis
END:VEVENT
END:VCALENDAR