BEGIN:VCALENDAR
VERSION:2.0
PRODID:-//217.160.0.149//NONSGML kigkonsult.se iCalcreator 2.20//
CALSCALE:GREGORIAN
METHOD:PUBLISH
X-WR-TIMEZONE:Europe/Berlin
BEGIN:VEVENT
UID:event912@Heikendorfer TC v. 1965
DTSTAMP:20260419T135351Z
CATEGORIES:Veranstaltungen
DESCRIPTION:30.04.22\,13-16Uhr Schleifchen-Turnier für Jung und Al\nKategor
 ie: Veranstaltungen\nICS-Link: https://heikendorfer-tc.de/index.php?option
 =com_jem&view=event&id=912:30-04-22-13-16uhr-schleifchen-turnier-fuer-jung
 -und-al\n
DTSTART:20220430T130000
DTEND:20220430T160000
LOCATION:HTC Außenplätze/Clubhaus\,Solten Wisch\,24226 Heikendorf
SUMMARY:30.04.22\,13-16Uhr Schleifchen-Turnier für Jung und Al
URL:https://heikendorfer-tc.de/index.php?option=com_jem&view=event&id=912:3
 0-04-22-13-16uhr-schleifchen-turnier-fuer-jung-und-al
END:VEVENT
END:VCALENDAR