BEGIN:VCALENDAR
VERSION:2.0
PRODID:-//217.160.0.149//NONSGML kigkonsult.se iCalcreator 2.20//
CALSCALE:GREGORIAN
METHOD:PUBLISH
X-WR-TIMEZONE:Europe/Berlin
BEGIN:VEVENT
UID:event913@Heikendorfer TC v. 1965
DTSTAMP:20260419T152739Z
CATEGORIES:Veranstaltungen
DESCRIPTION:30.04.22\,ab20Uhr Tanz in den Mai\nKategorie: Veranstaltungen\n
 ICS-Link: https://heikendorfer-tc.de/index.php?option=com_jem&view=event&i
 d=913:30-04-22-ab20uhr-tanz-in-den-mai\n
DTSTART:20220430T200000
DTEND:20220501T030000
LOCATION:HTC Außenplätze/Clubhaus\,Solten Wisch\,24226 Heikendorf
SUMMARY:30.04.22\,ab20Uhr Tanz in den Mai
URL:https://heikendorfer-tc.de/index.php?option=com_jem&view=event&id=913:3
 0-04-22-ab20uhr-tanz-in-den-mai
END:VEVENT
END:VCALENDAR