BEGIN:VCALENDAR
VERSION:2.0
PRODID:-//217.160.0.149//NONSGML kigkonsult.se iCalcreator 2.20//
CALSCALE:GREGORIAN
METHOD:PUBLISH
X-WR-TIMEZONE:Europe/Berlin
BEGIN:VEVENT
UID:event93@Heikendorfer TC v. 1965
DTSTAMP:20260419T134759Z
CATEGORIES:Veranstaltungen
DESCRIPTION:3. Ostsee-Cup\nKategorie: Veranstaltungen\nICS-Link: https://he
 ikendorfer-tc.de/index.php?option=com_jem&view=event&id=93:3-ostsee-cup\n
DTSTART:20160812T090000
DTEND:20160814T200000
LOCATION:Heim\,Heikendorf
SUMMARY:3. Ostsee-Cup
URL:https://heikendorfer-tc.de/index.php?option=com_jem&view=event&id=93:3-
 ostsee-cup
END:VEVENT
END:VCALENDAR