BEGIN:VCALENDAR
VERSION:2.0
PRODID:-//217.160.0.149//NONSGML kigkonsult.se iCalcreator 2.20//
CALSCALE:GREGORIAN
METHOD:PUBLISH
X-WR-TIMEZONE:Europe/Berlin
BEGIN:VEVENT
UID:event95@Heikendorfer TC v. 1965
DTSTAMP:20260419T134754Z
CATEGORIES:Veranstaltungen
DESCRIPTION:Sommercamp 2 Jugend\nKategorie: Veranstaltungen\nICS-Link: http
 s://heikendorfer-tc.de/index.php?option=com_jem&view=event&id=95:sommercam
 p-2-jugend\n
DTSTART:20160801T100000
DTEND:20160805T150000
LOCATION:Heim\,Heikendorf
SUMMARY:Sommercamp 2 Jugend
URL:https://heikendorfer-tc.de/index.php?option=com_jem&view=event&id=95:so
 mmercamp-2-jugend
END:VEVENT
END:VCALENDAR