BEGIN:VCALENDAR
VERSION:2.0
PRODID:-//217.160.0.149//NONSGML kigkonsult.se iCalcreator 2.20//
CALSCALE:GREGORIAN
METHOD:PUBLISH
X-WR-TIMEZONE:Europe/Berlin
BEGIN:VEVENT
UID:event96@Heikendorfer TC v. 1965
DTSTAMP:20260419T152313Z
CATEGORIES:Veranstaltungen
DESCRIPTION:HTC Sommerparty mit Kuddel-Muddel Turnier\nKategorie: Veranstal
 tungen\nICS-Link: https://heikendorfer-tc.de/index.php?option=com_jem&view
 =event&id=96:htc-sommerparty-mit-kuddel-muddel-turnier\n
DTSTART:20160723T140000
DTEND:20160724T030000
LOCATION:Heim\,Heikendorf
SUMMARY:HTC Sommerparty mit Kuddel-Muddel Turnier
URL:https://heikendorfer-tc.de/index.php?option=com_jem&view=event&id=96:ht
 c-sommerparty-mit-kuddel-muddel-turnier
END:VEVENT
END:VCALENDAR