BEGIN:VCALENDAR
VERSION:2.0
PRODID:-//217.160.0.149//NONSGML kigkonsult.se iCalcreator 2.20//
CALSCALE:GREGORIAN
METHOD:PUBLISH
X-WR-TIMEZONE:Europe/Berlin
BEGIN:VEVENT
UID:event98@Heikendorfer TC v. 1965
DTSTAMP:20260423T102906Z
CATEGORIES:Veranstaltungen
DESCRIPTION:Tennis und Surf Laboer TC\nKategorie: Veranstaltungen\nICS-Link
 : https://heikendorfer-tc.de/index.php?option=com_jem&view=event&id=98:ten
 nis-und-surf-laboer-tc\n
DTSTART:20160807T090000
DTEND:20160811T170000
LOCATION:Auswärts\,Auswärts
SUMMARY:Tennis und Surf Laboer TC
URL:https://heikendorfer-tc.de/index.php?option=com_jem&view=event&id=98:te
 nnis-und-surf-laboer-tc
END:VEVENT
END:VCALENDAR